BEGIN:VCALENDAR
VERSION:2.0
PRODID:-//Mud Run, OCR, Obstacle Course Race &amp; Ninja Warrior Guide - ECPv5.6.0//NONSGML v1.0//EN
CALSCALE:GREGORIAN
METHOD:PUBLISH
X-WR-CALNAME:Mud Run, OCR, Obstacle Course Race &amp; Ninja Warrior Guide
X-ORIGINAL-URL:https://www.mudrunguide.com
X-WR-CALDESC:Events for Mud Run, OCR, Obstacle Course Race &amp; Ninja Warrior Guide
BEGIN:VTIMEZONE
TZID:America/New_York
BEGIN:DAYLIGHT
TZOFFSETFROM:-0500
TZOFFSETTO:-0400
TZNAME:EDT
DTSTART:20150308T070000
END:DAYLIGHT
BEGIN:STANDARD
TZOFFSETFROM:-0400
TZOFFSETTO:-0500
TZNAME:EST
DTSTART:20151101T060000
END:STANDARD
END:VTIMEZONE
BEGIN:VEVENT
DTSTART;TZID=America/New_York:20150225T080000
DTEND;TZID=America/New_York:20150225T170000
DTSTAMP:20260421T002007
CREATED:20150225T034737Z
LAST-MODIFIED:20150225T034737Z
UID:14300-1424851200-1424883600@www.mudrunguide.com
SUMMARY:Syracuse New York Warrior Run Mountain Series 2015
DESCRIPTION:
URL:https://www.mudrunguide.com/event/syracuse-york-warrior-run-mountain-series-2015/
LOCATION:Toggenburg Ski\, 1135 Toggenburg Road\, Fabius\, NY\, 13063\, United States
CATEGORIES:Warrior Run Mountain Series
GEO:42.826397;-75.959548
X-APPLE-STRUCTURED-LOCATION;VALUE=URI;X-ADDRESS=Toggenburg Ski 1135 Toggenburg Road Fabius NY 13063 United States;X-APPLE-RADIUS=500;X-TITLE=1135 Toggenburg Road:geo:-75.959548,42.826397
END:VEVENT
END:VCALENDAR