BEGIN:VCALENDAR
VERSION:2.0
PRODID:-//Mud Run, OCR, Obstacle Course Race &amp; Ninja Warrior Guide - ECPv5.6.0//NONSGML v1.0//EN
CALSCALE:GREGORIAN
METHOD:PUBLISH
X-WR-CALNAME:Mud Run, OCR, Obstacle Course Race &amp; Ninja Warrior Guide
X-ORIGINAL-URL:https://www.mudrunguide.com
X-WR-CALDESC:Events for Mud Run, OCR, Obstacle Course Race &amp; Ninja Warrior Guide
BEGIN:VTIMEZONE
TZID:America/New_York
BEGIN:DAYLIGHT
TZOFFSETFROM:-0500
TZOFFSETTO:-0400
TZNAME:EDT
DTSTART:20140309T070000
END:DAYLIGHT
BEGIN:STANDARD
TZOFFSETFROM:-0400
TZOFFSETTO:-0500
TZNAME:EST
DTSTART:20141102T060000
END:STANDARD
END:VTIMEZONE
BEGIN:VEVENT
DTSTART;VALUE=DATE:20140517
DTEND;VALUE=DATE:20140518
DTSTAMP:20260422T081208
CREATED:20140302T220455Z
LAST-MODIFIED:20140302T220455Z
UID:7709-1400284800-1400371199@www.mudrunguide.com
SUMMARY:Piedmont South Carolina Wren Hurricane Mud Flud Run 2014
DESCRIPTION:
URL:https://www.mudrunguide.com/event/piedmont-south-carolina-wren-hurricane-mud-flud-run-2014/
LOCATION:Wren High Football Field\, Wigington Rd and Travelier Trail\, Piedmont\, SC\, 29673\, United States
CATEGORIES:Hurricane Mud Flud Run
GEO:34.726135;-82.539938
X-APPLE-STRUCTURED-LOCATION;VALUE=URI;X-ADDRESS=Wren High Football Field Wigington Rd and Travelier Trail Piedmont SC 29673 United States;X-APPLE-RADIUS=500;X-TITLE=Wigington Rd and Travelier Trail:geo:-82.539938,34.726135
END:VEVENT
END:VCALENDAR